Workbook

Sheet Lohnabrechnung
B1: Lohnabrechnung | E1: =C13
B3: Arbeitgeber und Arbeitnehmende
B4: Arbeitgeber, Firma und Adresse | C4: Muster AG, Musterstrasse 1, 6300 Zug
B5: Arbeitnehmende Person, Name und Adresse | C5: Vorname Name, Musterweg 2, 8000 Zuerich
B6: AHV-Nummer | C6: 756.0000.0000.00
B7: Personalnummer | C7: 1001
B10: Eingaben
B11: Lohnart | C11: Monatslohn | D11: Auswahl: Monatslohn oder Stundenlohn
B12: Kanton der Ausgleichskasse | C12: Zuerich | D12: bestimmt den FAK-Satz
B13: Abrechnungsperiode | C13: Januar 2026
B14: Monatslohn brutto | C14: 6140 | D14: nur bei Monatslohn
B15: Stundensatz | C15: 0 | D15: nur bei Stundenlohn
B16: Stunden im Monat | C16: 0 | D16: nur bei Stundenlohn
B17: Ferienentschaedigung | C17: 0.0833 | D17: 8,33 % bei 4 Wochen, 10,64 % bei 5 Wochen. Nur bei Stundenlohn
B18: 13. Monatslohn vereinbart | C18: nein | D18: ja erhoeht den Jahreslohn fuer das BVG
B19: Alter | C19: 42 | D19: bestimmt die Altersgutschrift im BVG
B20: Geschaeftsfahrzeug, Kaufpreis exkl. MWST | C20: 40000 | D20: 0 eintragen, wenn kein Fahrzeug
B21: Kinder- und Ausbildungszulagen | C21: 215 | D21: nicht AHV-pflichtig, aber UVG- und quellensteuerpflichtig
B22: Weitere AHV-pflichtige Zulagen | C22: 0 | D22: Praemien, Provisionen, Schichtzulagen
B23: Effektiver Spesenersatz | C23: 0 | D23: beitragsfrei, wird nur ausbezahlt
B24: NBU-Praemie Arbeitnehmer | C24: 0.012 | D24: nach Police
B25: BU-Praemie Arbeitgeber | C25: 0.008 | D25: nach Police
B26: Krankentaggeld, Anteil je Seite | C26: 0.005 | D26: nach Police, Basis AHV-pflichtiger Lohn
B27: Quellensteuersatz | C27: 0.0587 | D27: 0 wenn nicht quellensteuerpflichtig, Satz aus dem kantonalen Tarif
B28: BVG Arbeitnehmeranteil, eigener Betrag | C28: 0 | D28: 0 = gesetzliches Minimum rechnen
B30: Abrechnung
B31: Grundlohn | E31: =IF(C11="Stundenlohn",ROUND(C15*C16*(1+C17),2),C14)
B32: Privatanteil Geschaeftsfahrzeug | E32: =IF(C20<=0,0,IF(C20<Parameter!$B$29,MAX(Parameter!$B$28,ROUND(C20*Parameter!$B$27,2)),ROUND(C20*Parameter!$B$27,2)))
B33: Weitere Zulagen | E33: =C22
B34: Bruttolohn, AHV- und BVG-pflichtig | E34: =E31+E32+E33
B35: Kinder- und Ausbildungszulagen | E35: =C21
B36: Basis fuer UVG-Praemien und Quellensteuer | E36: =E34+E35
B38: Jahreslohn fuer das BVG | E38: =ROUND(E31*IF(C18="ja",13,12)+(E32+E33)*12,2)
B39: Koordinierter Lohn | E39: =IF(E38<=Parameter!$B$13,0,MAX(Parameter!$B$17,MIN(Parameter!$B$16,E38-Parameter!$B$14)))
B40: Altersgutschrift nach Art. 16 BVG | E40: =IFERROR(LOOKUP(C19,Parameter!$A$21:$A$24,Parameter!$B$21:$B$24),0)
B42: AHV/IV/EO | D42: =Parameter!B5 | E42: =-ROUND(E34*Parameter!$B$5,2)
B43: ALV | D43: =Parameter!B7 | E43: =-ROUND(MIN(E34,Parameter!$B$9)*Parameter!$B$7,2)
B44: BVG Arbeitnehmeranteil | E44: =IF(C28>0,-C28,-ROUND(E39*E40/2/12,2))
B45: Nichtberufsunfall NBU | D45: =C24 | E45: =-ROUND(MIN(E36,Parameter!$B$10)*C24,2)
B46: Krankentaggeld | D46: =C26 | E46: =-ROUND(E34*C26,2)
B47: FAK Arbeitnehmeranteil | E47: =-ROUND(E34*IFERROR(VLOOKUP(C12,Parameter!$A$35:$C$60,3,FALSE),0),2)
B48: Quellensteuer | D48: =C27 | E48: =-ROUND(E36*C27,2)
B49: Total Abzuege | E49: =SUM(E42:E48)
B50: Nettolohn | E50: =E36+E49
B51: Privatanteil Geschaeftsfahrzeug, kein Geldfluss | E51: =-E32
B52: Spesenersatz, beitragsfrei | E52: =C23
B53: Auszahlungsbetrag | E53: =E50+E51+E52
B55: Hinweise: Der BVG-Abzug ist das gesetzliche Minimum nach Art. 16 BVG. Risiko- und Verwaltungskosten Ihrer Pensionskasse kommen dazu, deshalb kann der eigene Betrag in Zeile 28 eingetragen werden. Die Kinderzulage erhoeht die Basis fuer UVG und Quellensteuer, nicht aber fuer AHV, ALV und BVG. Bei Stundenlohn muss die Ferienentschaedigung auf jeder Abrechnung sichtbar sein (BGE 129 III 493).

Sheet Arbeitgeberkosten
B1: Was der Lohn die Firma kostet
B2: Rechnet mit den Eingaben auf dem Blatt Lohnabrechnung.
B4: Bruttolohn, AHV-pflichtig | D4: =Lohnabrechnung!E34
B6: AHV/IV/EO Arbeitgeberanteil | C6: =Parameter!B6 | D6: =ROUND(D4*C6,2)
B7: ALV Arbeitgeberanteil | C7: =Parameter!B8 | D7: =ROUND(MIN($D$4,Parameter!$B$9)*C7,2)
B8: =CONCATENATE("Familienzulagen FAK, ",Lohnabrechnung!C12) | C8: =IFERROR(VLOOKUP(Lohnabrechnung!C12,Parameter!$A$35:$C$60,2,FALSE),0) | D8: =ROUND($D$4*C8,2)
B9: BVG, mindestens gleich hoch wie der Arbeitnehmeranteil | D9: =-Lohnabrechnung!E44
B10: Berufsunfallversicherung BU | C10: =Lohnabrechnung!C25 | D10: =ROUND(MIN(Lohnabrechnung!E36,Parameter!$B$10)*C10,2)
B11: Krankentaggeld, Arbeitgeberanteil | C11: =Lohnabrechnung!C26 | D11: =ROUND($D$4*C11,2)
B12: Verwaltungskostenbeitrag der Ausgleichskasse | C12: 0 | D12: =ROUND($D$4*C12,2)
B13: Total Nebenkosten | C13: =IFERROR(D13/$D$4,0) | D13: =SUM(D6:D12)
B14: Bruttolohn plus Nebenkosten | C14: =IFERROR(D14/$D$4,0) | D14: =D4+D13
B16: Der Verwaltungskostenbeitrag in Zeile 12 ist bewusst leer: er richtet sich nach dem Reglement Ihrer Ausgleichskasse und geht allein zulasten der Arbeitgebenden. Die Kinderzulage ist keine Arbeitgeberkosten, weil sie von der Familienausgleichskasse getragen und vom Arbeitgeber nur vorgeschossen wird. Als Faustregel liegen die Nebenkosten bei rund 12 bis 15 % des Bruttolohns.

Sheet Parameter
A1: Parameter 2026 fuer die Lohnabrechnung
A2: Aendert der Bund einen Wert, aendern Sie hier eine Zelle. Alle Formeln greifen darauf zu.
A4: Sozialversicherungen
A5: AHV/IV/EO Arbeitnehmeranteil | B5: 0.053 | C5: AHV/IV-Merkblatt 2.01, Stand 1. Januar 2026. Total 10,6 % (AHV 8,7 + IV 1,4 + EO 0,5)
A6: AHV/IV/EO Arbeitgeberanteil | B6: 0.053 | C6: dito
A7: ALV Arbeitnehmeranteil | B7: 0.011 | C7: AHV/IV-Merkblatt 2.08. Total 2,2 %
A8: ALV Arbeitgeberanteil | B8: 0.011 | C8: dito
A9: ALV Plafond pro Monat in CHF | B9: 12350 | C9: Merkblatt 2.08: Jahresplafond 148 200, monatlich ein Zwoelftel
A10: UVG versicherter Verdienst, Plafond pro Monat | B10: 12350 | C10: Art. 22 Abs. 1 UVV: 148 200 im Jahr
A12: Berufliche Vorsorge BVG
A13: Eintrittsschwelle Jahreslohn | B13: 22680 | C13: Art. 2 und Art. 7 BVG
A14: Koordinationsabzug | B14: 26460 | C14: Art. 8 Abs. 1 BVG
A15: Obere Grenze des Jahreslohns | B15: 90720 | C15: Art. 8 Abs. 1 BVG
A16: Maximaler koordinierter Lohn | B16: =B15-B14 | C16: obere Grenze minus Koordinationsabzug
A17: Minimaler koordinierter Lohn | B17: 3780 | C17: Art. 8 Abs. 2 BVG: Aufrundung auf diesen Betrag
A19: Altersgutschriften nach Art. 16 BVG
A20: ab Altersjahr | B20: Ansatz
A21: 25 | B21: 0.07 | C21: Vor dem 1. Januar nach Vollendung des 24. Altersjahres keine Altersgutschrift, nur Risikoschutz.
A22: 35 | B22: 0.1
A23: 45 | B23: 0.15
A24: 55 | B24: 0.18
A26: Geschaeftsfahrzeug und Zulagen
A27: Privatanteil pro Monat, Anteil am Kaufpreis | B27: 0.009 | C27: Wegleitung zum Lohnausweis, gueltig ab 1. Januar 2026, Rz 21
A28: Privatanteil Mindestbetrag pro Monat | B28: 150 | C28: dito, gilt bei Kaufpreis unter 16 667
A29: Kaufpreisgrenze fuer den Mindestbetrag | B29: 16667 | C29: dito
A30: Kinderzulage, gesetzlicher Mindestansatz | B30: 215 | C30: AHV/IV-Merkblatt 6.08, seit 1. Januar 2025. Kantone duerfen hoeher gehen
A31: Ausbildungszulage, gesetzlicher Mindestansatz | B31: 268 | C31: dito
A33: Beitraege an die Familienausgleichskasse 2026
A34: Kanton | B34: Arbeitgeber | C34: Arbeitnehmer
A35: Aargau | B35: 0.0145 | C35: 0
A36: Appenzell AI | B36: 0.016 | C36: 0
A37: Appenzell AR | B37: 0.016 | C37: 0
A38: Basel-Landschaft | B38: 0.013 | C38: 0
A39: Basel-Stadt | B39: 0.0165 | C39: 0
A40: Bern | B40: 0.015 | C40: 0
A41: Freiburg | B41: 0.0227 | C41: 0
A42: Genf | B42: 0.0222 | C42: 0
A43: Glarus | B43: 0.014 | C43: 0
A44: Graubuenden | B44: 0.015 | C44: 0
A45: Jura | B45: 0.0275 | C45: 0
A46: Luzern | B46: 0.0135 | C46: 0
... A60: Zuerich | B60: 0.01025 | C60: 0
A62: Saetze der kantonalen Ausgleichskassen aus der Berechnungsvorlage des SECO, Stand 22. Dezember 2025. Die Familienausgleichskasse ist frei waehlbar, Verbandskassen koennen abweichen. Den fuer Sie geltenden Satz bestaetigt Ihre Ausgleichskasse. Wallis ist der einzige Kanton mit einem Arbeitnehmeranteil; der Staatsrat hat ihn fuer 2026 am 16. Oktober 2025 auf 0,13 % festgesetzt.
